BEGIN:VCALENDAR
VERSION:2.0
PRODID:-//Fond du Lac - ECPv6.15.13//NONSGML v1.0//EN
CALSCALE:GREGORIAN
METHOD:PUBLISH
X-WR-CALNAME:Fond du Lac
X-ORIGINAL-URL:https://www.fdl.com
X-WR-CALDESC:Events for Fond du Lac
REFRESH-INTERVAL;VALUE=DURATION:PT1H
X-Robots-Tag:noindex
X-PUBLISHED-TTL:PT1H
BEGIN:VTIMEZONE
TZID:America/Chicago
BEGIN:DAYLIGHT
TZOFFSETFROM:-0600
TZOFFSETTO:-0500
TZNAME:CDT
DTSTART:20250309T080000
END:DAYLIGHT
BEGIN:STANDARD
TZOFFSETFROM:-0500
TZOFFSETTO:-0600
TZNAME:CST
DTSTART:20251102T070000
END:STANDARD
BEGIN:DAYLIGHT
TZOFFSETFROM:-0600
TZOFFSETTO:-0500
TZNAME:CDT
DTSTART:20260308T080000
END:DAYLIGHT
BEGIN:STANDARD
TZOFFSETFROM:-0500
TZOFFSETTO:-0600
TZNAME:CST
DTSTART:20261101T070000
END:STANDARD
BEGIN:DAYLIGHT
TZOFFSETFROM:-0600
TZOFFSETTO:-0500
TZNAME:CDT
DTSTART:20270314T080000
END:DAYLIGHT
BEGIN:STANDARD
TZOFFSETFROM:-0500
TZOFFSETTO:-0600
TZNAME:CST
DTSTART:20271107T070000
END:STANDARD
END:VTIMEZONE
BEGIN:VEVENT
DTSTART;TZID=America/Chicago:20260424T090000
DTEND;TZID=America/Chicago:20260424T120000
DTSTAMP:20260420T090125
CREATED:20260224T202400Z
LAST-MODIFIED:20260420T123015Z
UID:10012469-1777021200-1777032000@www.fdl.com
SUMMARY:Kelley&#x92;s Farmstead Baby Farm Animal Barn
DESCRIPTION:Kelley&#x92;s Farmstead is inviting you to their farm for their 6th Annual Baby Farm Animal Barn!\n \nVisit our working farm for a unique\, hands- on experience which allows you to get up close and personal with our new baby farm animals! Hold the soft woolly lambs \, nuzzle a baby bunny \, snuggle a piglet \, listen to a calf moo \, chirp with the chicks \, cuddle a goat \, pet one of our donkeys  \, or quack like a duck . A one-of-a-kind experience!\n \nThe baby farm animals are of utmost importance and come first on the farm.We cannot guarantee all visitors will be able to hold/pet every animal.\nPlease practice patience! The animals require many breaks throughout the day to eat and sleep .\n \nAdmission:– Admission is paid upon arrival at the farm at the Admission Building– We accept cash and credit cards– Animal feed for purchase is $1.00 per cone– Paintballs available for purchase\n \nBarnyard Activities (weather permitting):– Corn Box – Steer lasso – Photo ops – Paintball (additional cost)\n \n***NEW THIS YEAR***– Handicap Accessible Sidewalk to get to both upstairs and downstairs of the barn!– More outdoor activities!\n \nAdditional Information:– Dress for the weather – Barn is NOT heated– We are open rain\, snow \, or shine  (some outdoor activities are weather permitting)– Must wash hands when entering and exiting the barn**No strollers\, car seats\, pacifiers\, bottles/sippy cups\, food\, or drinks allowed in the barn****Recommend wearing a front or back infant/child carriers for little ones**– Parking located across the road (same as our Fall location)– Handicap Parking Available at the Farm **Please call 920-979-0955 ahead for directions**– Souvenirs\, Apparel\, and Treats Available for Purchase\n \nWe are open on the following dates:– April 3rd: 9 am-4 pm (Good Friday)– April 4th: 9 am-4 pmClosed Easter Sunday (April 5th)\n– April 10th: 9 am-12 pm– April 11th: 9 am-4 pm– April 12th: 9 am-4 pm\n– April 17th: 9 am-12 pm– April 18th: 9 am-4 pm– April 19th: 9 am-4 pm\n– April 24th: 9 am-12 pm– April 25th: 9 am-4 pm– April 26th: 9 am-4 pm\n– May 1st: 9 am-12 pm– May 2nd: 9 am-4 pm– May 3rd: 9 am-4 pm\n– May 8th: 9 am-12 pm– May 9th: 9 am-4 pm– May 10th: 9 am-4 pm (Mother&#x92;s Day)\nFor more details visit our website\, www.kelleysfarmstead.com\n$14 per person (includes tax)\, children under 2 are free
URL:https://www.fdl.com/event/kelleys-farmstead-baby-farm-animal-barn-2/2026-04-24/
LOCATION:Kelley’s Farmstead\, N4149 Kelly Road\, Fond du Lac\, WI\, 54937\, United States
CATEGORIES:Educational + Workshop + Class,Family + Fun,Holiday + Seasonal
ORGANIZER;CN="Clark Kelley":MAILTO:kelleysfarmstead@gmail.com
GEO:43.691287;-88.419213
X-APPLE-STRUCTURED-LOCATION;VALUE=URI;X-ADDRESS=Kelley’s Farmstead N4149 Kelly Road Fond du Lac WI 54937 United States;X-APPLE-RADIUS=500;X-TITLE=N4149 Kelly Road:geo:-88.419213,43.691287
END:VEVENT
BEGIN:VEVENT
DTSTART;TZID=America/Chicago:20260425T090000
DTEND;TZID=America/Chicago:20260425T160000
DTSTAMP:20260420T090125
CREATED:20260224T202300Z
LAST-MODIFIED:20260420T123014Z
UID:10012461-1777107600-1777132800@www.fdl.com
SUMMARY:Kelley&#x92;s Farmstead Baby Farm Animal Barn
DESCRIPTION:Kelley&#x92;s Farmstead is inviting you to their farm for their 6th Annual Baby Farm Animal Barn!\n \nVisit our working farm for a unique\, hands- on experience which allows you to get up close and personal with our new baby farm animals! Hold the soft woolly lambs \, nuzzle a baby bunny \, snuggle a piglet \, listen to a calf moo \, chirp with the chicks \, cuddle a goat \, pet one of our donkeys  \, or quack like a duck . A one-of-a-kind experience!\n \nThe baby farm animals are of utmost importance and come first on the farm.We cannot guarantee all visitors will be able to hold/pet every animal.\nPlease practice patience! The animals require many breaks throughout the day to eat and sleep .\n \nAdmission:– Admission is paid upon arrival at the farm at the Admission Building– We accept cash and credit cards– Animal feed for purchase is $1.00 per cone– Paintballs available for purchase\n \nBarnyard Activities (weather permitting):– Corn Box – Steer lasso – Photo ops – Paintball (additional cost)\n \n***NEW THIS YEAR***– Handicap Accessible Sidewalk to get to both upstairs and downstairs of the barn!– More outdoor activities!\n \nAdditional Information:– Dress for the weather – Barn is NOT heated– We are open rain\, snow \, or shine  (some outdoor activities are weather permitting)– Must wash hands when entering and exiting the barn**No strollers\, car seats\, pacifiers\, bottles/sippy cups\, food\, or drinks allowed in the barn****Recommend wearing a front or back infant/child carriers for little ones**– Parking located across the road (same as our Fall location)– Handicap Parking Available at the Farm **Please call 920-979-0955 ahead for directions**– Souvenirs\, Apparel\, and Treats Available for Purchase\n \nWe are open on the following dates:– April 3rd: 9 am-4 pm (Good Friday)– April 4th: 9 am-4 pmClosed Easter Sunday (April 5th)\n– April 10th: 9 am-12 pm– April 11th: 9 am-4 pm– April 12th: 9 am-4 pm\n– April 17th: 9 am-12 pm– April 18th: 9 am-4 pm– April 19th: 9 am-4 pm\n– April 24th: 9 am-12 pm– April 25th: 9 am-4 pm– April 26th: 9 am-4 pm\n– May 1st: 9 am-12 pm– May 2nd: 9 am-4 pm– May 3rd: 9 am-4 pm\n– May 8th: 9 am-12 pm– May 9th: 9 am-4 pm– May 10th: 9 am-4 pm (Mother&#x92;s Day)\nFor more details visit our website\, www.kelleysfarmstead.com\n$14 per person (includes tax)\, children under 2 are free
URL:https://www.fdl.com/event/kelleys-farmstead-baby-farm-animal-barn/2026-04-25/
LOCATION:Kelley’s Farmstead\, N4149 Kelly Road\, Fond du Lac\, WI\, 54937\, United States
CATEGORIES:Educational + Workshop + Class,Family + Fun,Holiday + Seasonal
ORGANIZER;CN="Clark Kelley":MAILTO:kelleysfarmstead@gmail.com
GEO:43.691287;-88.419213
X-APPLE-STRUCTURED-LOCATION;VALUE=URI;X-ADDRESS=Kelley’s Farmstead N4149 Kelly Road Fond du Lac WI 54937 United States;X-APPLE-RADIUS=500;X-TITLE=N4149 Kelly Road:geo:-88.419213,43.691287
END:VEVENT
BEGIN:VEVENT
DTSTART;TZID=America/Chicago:20260426T090000
DTEND;TZID=America/Chicago:20260426T120000
DTSTAMP:20260420T090125
CREATED:20260323T150600Z
LAST-MODIFIED:20260420T123016Z
UID:10012654-1777194000-1777204800@www.fdl.com
SUMMARY:Kelley&#x92;s Farmstead Baby Farm Animal Barn
DESCRIPTION:Kelley&#x92;s Farmstead is inviting you to their farm for their 6th Annual Baby Farm Animal Barn!\n \nVisit our working farm for a unique\, hands- on experience which allows you to get up close and personal with our new baby farm animals! Hold the soft woolly lambs \, nuzzle a baby bunny \, snuggle a piglet \, listen to a calf moo \, chirp with the chicks \, cuddle a goat \, pet one of our donkeys  \, or quack like a duck . A one-of-a-kind experience!\n \nThe baby farm animals are of utmost importance and come first on the farm.We cannot guarantee all visitors will be able to hold/pet every animal.\nPlease practice patience! The animals require many breaks throughout the day to eat and sleep .\n \nAdmission:– Admission is paid upon arrival at the farm at the Admission Building– We accept cash and credit cards– Animal feed for purchase is $1.00 per cone– Paintballs available for purchase\n \nBarnyard Activities (weather permitting):– Corn Box – Steer lasso – Photo ops – Paintball (additional cost)\n \n***NEW THIS YEAR***– Handicap Accessible Sidewalk to get to both upstairs and downstairs of the barn!– More outdoor activities!\n \nAdditional Information:– Dress for the weather – Barn is NOT heated– We are open rain\, snow \, or shine  (some outdoor activities are weather permitting)– Must wash hands when entering and exiting the barn**No strollers\, car seats\, pacifiers\, bottles/sippy cups\, food\, or drinks allowed in the barn****Recommend wearing a front or back infant/child carriers for little ones**– Parking located across the road (same as our Fall location)– Handicap Parking Available at the Farm **Please call 920-979-0955 ahead for directions**– Souvenirs\, Apparel\, and Treats Available for Purchase\n \nWe are open on the following dates:– April 3rd: 9 am-4 pm (Good Friday)– April 4th: 9 am-4 pmClosed Easter Sunday (April 5th)\n– April 10th: 9 am-12 pm– April 11th: 9 am-4 pm– April 12th: 9 am-4 pm\n– April 17th: 9 am-12 pm– April 18th: 9 am-4 pm– April 19th: 9 am-4 pm\n– April 24th: 9 am-12 pm– April 25th: 9 am-4 pm– April 26th: 9 am-4 pm\n– May 1st: 9 am-12 pm– May 2nd: 9 am-4 pm– May 3rd: 9 am-4 pm\n– May 8th: 9 am-12 pm– May 9th: 9 am-4 pm– May 10th: 9 am-4 pm (Mother&#x92;s Day)\nFor more details visit our website\, www.kelleysfarmstead.com\n$14 per person (includes tax)\, children under 2 are free
URL:https://www.fdl.com/event/kelleys-farmstead-baby-farm-animal-barn-3/2026-04-26/
LOCATION:Kelley’s Farmstead\, N4149 Kelly Road\, Fond du Lac\, WI\, 54937\, United States
CATEGORIES:Educational + Workshop + Class,Family + Fun,Holiday + Seasonal
ORGANIZER;CN="Clark Kelley":MAILTO:kelleysfarmstead@gmail.com
GEO:43.691287;-88.419213
X-APPLE-STRUCTURED-LOCATION;VALUE=URI;X-ADDRESS=Kelley’s Farmstead N4149 Kelly Road Fond du Lac WI 54937 United States;X-APPLE-RADIUS=500;X-TITLE=N4149 Kelly Road:geo:-88.419213,43.691287
END:VEVENT
BEGIN:VEVENT
DTSTART;TZID=America/Chicago:20260501T090000
DTEND;TZID=America/Chicago:20260501T120000
DTSTAMP:20260420T090125
CREATED:20260224T202400Z
LAST-MODIFIED:20260420T123015Z
UID:10012470-1777626000-1777636800@www.fdl.com
SUMMARY:Kelley&#x92;s Farmstead Baby Farm Animal Barn
DESCRIPTION:Kelley&#x92;s Farmstead is inviting you to their farm for their 6th Annual Baby Farm Animal Barn!\n \nVisit our working farm for a unique\, hands- on experience which allows you to get up close and personal with our new baby farm animals! Hold the soft woolly lambs \, nuzzle a baby bunny \, snuggle a piglet \, listen to a calf moo \, chirp with the chicks \, cuddle a goat \, pet one of our donkeys  \, or quack like a duck . A one-of-a-kind experience!\n \nThe baby farm animals are of utmost importance and come first on the farm.We cannot guarantee all visitors will be able to hold/pet every animal.\nPlease practice patience! The animals require many breaks throughout the day to eat and sleep .\n \nAdmission:– Admission is paid upon arrival at the farm at the Admission Building– We accept cash and credit cards– Animal feed for purchase is $1.00 per cone– Paintballs available for purchase\n \nBarnyard Activities (weather permitting):– Corn Box – Steer lasso – Photo ops – Paintball (additional cost)\n \n***NEW THIS YEAR***– Handicap Accessible Sidewalk to get to both upstairs and downstairs of the barn!– More outdoor activities!\n \nAdditional Information:– Dress for the weather – Barn is NOT heated– We are open rain\, snow \, or shine  (some outdoor activities are weather permitting)– Must wash hands when entering and exiting the barn**No strollers\, car seats\, pacifiers\, bottles/sippy cups\, food\, or drinks allowed in the barn****Recommend wearing a front or back infant/child carriers for little ones**– Parking located across the road (same as our Fall location)– Handicap Parking Available at the Farm **Please call 920-979-0955 ahead for directions**– Souvenirs\, Apparel\, and Treats Available for Purchase\n \nWe are open on the following dates:– April 3rd: 9 am-4 pm (Good Friday)– April 4th: 9 am-4 pmClosed Easter Sunday (April 5th)\n– April 10th: 9 am-12 pm– April 11th: 9 am-4 pm– April 12th: 9 am-4 pm\n– April 17th: 9 am-12 pm– April 18th: 9 am-4 pm– April 19th: 9 am-4 pm\n– April 24th: 9 am-12 pm– April 25th: 9 am-4 pm– April 26th: 9 am-4 pm\n– May 1st: 9 am-12 pm– May 2nd: 9 am-4 pm– May 3rd: 9 am-4 pm\n– May 8th: 9 am-12 pm– May 9th: 9 am-4 pm– May 10th: 9 am-4 pm (Mother&#x92;s Day)\nFor more details visit our website\, www.kelleysfarmstead.com\n$14 per person (includes tax)\, children under 2 are free
URL:https://www.fdl.com/event/kelleys-farmstead-baby-farm-animal-barn-2/2026-05-01/
LOCATION:Kelley’s Farmstead\, N4149 Kelly Road\, Fond du Lac\, WI\, 54937\, United States
CATEGORIES:Educational + Workshop + Class,Family + Fun,Holiday + Seasonal
ORGANIZER;CN="Clark Kelley":MAILTO:kelleysfarmstead@gmail.com
GEO:43.691287;-88.419213
X-APPLE-STRUCTURED-LOCATION;VALUE=URI;X-ADDRESS=Kelley’s Farmstead N4149 Kelly Road Fond du Lac WI 54937 United States;X-APPLE-RADIUS=500;X-TITLE=N4149 Kelly Road:geo:-88.419213,43.691287
END:VEVENT
BEGIN:VEVENT
DTSTART;TZID=America/Chicago:20260502T090000
DTEND;TZID=America/Chicago:20260502T160000
DTSTAMP:20260420T090125
CREATED:20260224T202300Z
LAST-MODIFIED:20260420T123014Z
UID:10012463-1777712400-1777737600@www.fdl.com
SUMMARY:Kelley&#x92;s Farmstead Baby Farm Animal Barn
DESCRIPTION:Kelley&#x92;s Farmstead is inviting you to their farm for their 6th Annual Baby Farm Animal Barn!\n \nVisit our working farm for a unique\, hands- on experience which allows you to get up close and personal with our new baby farm animals! Hold the soft woolly lambs \, nuzzle a baby bunny \, snuggle a piglet \, listen to a calf moo \, chirp with the chicks \, cuddle a goat \, pet one of our donkeys  \, or quack like a duck . A one-of-a-kind experience!\n \nThe baby farm animals are of utmost importance and come first on the farm.We cannot guarantee all visitors will be able to hold/pet every animal.\nPlease practice patience! The animals require many breaks throughout the day to eat and sleep .\n \nAdmission:– Admission is paid upon arrival at the farm at the Admission Building– We accept cash and credit cards– Animal feed for purchase is $1.00 per cone– Paintballs available for purchase\n \nBarnyard Activities (weather permitting):– Corn Box – Steer lasso – Photo ops – Paintball (additional cost)\n \n***NEW THIS YEAR***– Handicap Accessible Sidewalk to get to both upstairs and downstairs of the barn!– More outdoor activities!\n \nAdditional Information:– Dress for the weather – Barn is NOT heated– We are open rain\, snow \, or shine  (some outdoor activities are weather permitting)– Must wash hands when entering and exiting the barn**No strollers\, car seats\, pacifiers\, bottles/sippy cups\, food\, or drinks allowed in the barn****Recommend wearing a front or back infant/child carriers for little ones**– Parking located across the road (same as our Fall location)– Handicap Parking Available at the Farm **Please call 920-979-0955 ahead for directions**– Souvenirs\, Apparel\, and Treats Available for Purchase\n \nWe are open on the following dates:– April 3rd: 9 am-4 pm (Good Friday)– April 4th: 9 am-4 pmClosed Easter Sunday (April 5th)\n– April 10th: 9 am-12 pm– April 11th: 9 am-4 pm– April 12th: 9 am-4 pm\n– April 17th: 9 am-12 pm– April 18th: 9 am-4 pm– April 19th: 9 am-4 pm\n– April 24th: 9 am-12 pm– April 25th: 9 am-4 pm– April 26th: 9 am-4 pm\n– May 1st: 9 am-12 pm– May 2nd: 9 am-4 pm– May 3rd: 9 am-4 pm\n– May 8th: 9 am-12 pm– May 9th: 9 am-4 pm– May 10th: 9 am-4 pm (Mother&#x92;s Day)\nFor more details visit our website\, www.kelleysfarmstead.com\n$14 per person (includes tax)\, children under 2 are free
URL:https://www.fdl.com/event/kelleys-farmstead-baby-farm-animal-barn/2026-05-02/
LOCATION:Kelley’s Farmstead\, N4149 Kelly Road\, Fond du Lac\, WI\, 54937\, United States
CATEGORIES:Educational + Workshop + Class,Family + Fun,Holiday + Seasonal
ORGANIZER;CN="Clark Kelley":MAILTO:kelleysfarmstead@gmail.com
GEO:43.691287;-88.419213
X-APPLE-STRUCTURED-LOCATION;VALUE=URI;X-ADDRESS=Kelley’s Farmstead N4149 Kelly Road Fond du Lac WI 54937 United States;X-APPLE-RADIUS=500;X-TITLE=N4149 Kelly Road:geo:-88.419213,43.691287
END:VEVENT
BEGIN:VEVENT
DTSTART;TZID=America/Chicago:20260503T090000
DTEND;TZID=America/Chicago:20260503T120000
DTSTAMP:20260420T090125
CREATED:20260323T150600Z
LAST-MODIFIED:20260420T123016Z
UID:10012655-1777798800-1777809600@www.fdl.com
SUMMARY:Kelley&#x92;s Farmstead Baby Farm Animal Barn
DESCRIPTION:Kelley&#x92;s Farmstead is inviting you to their farm for their 6th Annual Baby Farm Animal Barn!\n \nVisit our working farm for a unique\, hands- on experience which allows you to get up close and personal with our new baby farm animals! Hold the soft woolly lambs \, nuzzle a baby bunny \, snuggle a piglet \, listen to a calf moo \, chirp with the chicks \, cuddle a goat \, pet one of our donkeys  \, or quack like a duck . A one-of-a-kind experience!\n \nThe baby farm animals are of utmost importance and come first on the farm.We cannot guarantee all visitors will be able to hold/pet every animal.\nPlease practice patience! The animals require many breaks throughout the day to eat and sleep .\n \nAdmission:– Admission is paid upon arrival at the farm at the Admission Building– We accept cash and credit cards– Animal feed for purchase is $1.00 per cone– Paintballs available for purchase\n \nBarnyard Activities (weather permitting):– Corn Box – Steer lasso – Photo ops – Paintball (additional cost)\n \n***NEW THIS YEAR***– Handicap Accessible Sidewalk to get to both upstairs and downstairs of the barn!– More outdoor activities!\n \nAdditional Information:– Dress for the weather – Barn is NOT heated– We are open rain\, snow \, or shine  (some outdoor activities are weather permitting)– Must wash hands when entering and exiting the barn**No strollers\, car seats\, pacifiers\, bottles/sippy cups\, food\, or drinks allowed in the barn****Recommend wearing a front or back infant/child carriers for little ones**– Parking located across the road (same as our Fall location)– Handicap Parking Available at the Farm **Please call 920-979-0955 ahead for directions**– Souvenirs\, Apparel\, and Treats Available for Purchase\n \nWe are open on the following dates:– April 3rd: 9 am-4 pm (Good Friday)– April 4th: 9 am-4 pmClosed Easter Sunday (April 5th)\n– April 10th: 9 am-12 pm– April 11th: 9 am-4 pm– April 12th: 9 am-4 pm\n– April 17th: 9 am-12 pm– April 18th: 9 am-4 pm– April 19th: 9 am-4 pm\n– April 24th: 9 am-12 pm– April 25th: 9 am-4 pm– April 26th: 9 am-4 pm\n– May 1st: 9 am-12 pm– May 2nd: 9 am-4 pm– May 3rd: 9 am-4 pm\n– May 8th: 9 am-12 pm– May 9th: 9 am-4 pm– May 10th: 9 am-4 pm (Mother&#x92;s Day)\nFor more details visit our website\, www.kelleysfarmstead.com\n$14 per person (includes tax)\, children under 2 are free
URL:https://www.fdl.com/event/kelleys-farmstead-baby-farm-animal-barn-3/2026-05-03/
LOCATION:Kelley’s Farmstead\, N4149 Kelly Road\, Fond du Lac\, WI\, 54937\, United States
CATEGORIES:Educational + Workshop + Class,Family + Fun,Holiday + Seasonal
ORGANIZER;CN="Clark Kelley":MAILTO:kelleysfarmstead@gmail.com
GEO:43.691287;-88.419213
X-APPLE-STRUCTURED-LOCATION;VALUE=URI;X-ADDRESS=Kelley’s Farmstead N4149 Kelly Road Fond du Lac WI 54937 United States;X-APPLE-RADIUS=500;X-TITLE=N4149 Kelly Road:geo:-88.419213,43.691287
END:VEVENT
BEGIN:VEVENT
DTSTART;TZID=America/Chicago:20260508T090000
DTEND;TZID=America/Chicago:20260508T120000
DTSTAMP:20260420T090125
CREATED:20260224T202400Z
LAST-MODIFIED:20260420T123015Z
UID:10012471-1778230800-1778241600@www.fdl.com
SUMMARY:Kelley&#x92;s Farmstead Baby Farm Animal Barn
DESCRIPTION:Kelley&#x92;s Farmstead is inviting you to their farm for their 6th Annual Baby Farm Animal Barn!\n \nVisit our working farm for a unique\, hands- on experience which allows you to get up close and personal with our new baby farm animals! Hold the soft woolly lambs \, nuzzle a baby bunny \, snuggle a piglet \, listen to a calf moo \, chirp with the chicks \, cuddle a goat \, pet one of our donkeys  \, or quack like a duck . A one-of-a-kind experience!\n \nThe baby farm animals are of utmost importance and come first on the farm.We cannot guarantee all visitors will be able to hold/pet every animal.\nPlease practice patience! The animals require many breaks throughout the day to eat and sleep .\n \nAdmission:– Admission is paid upon arrival at the farm at the Admission Building– We accept cash and credit cards– Animal feed for purchase is $1.00 per cone– Paintballs available for purchase\n \nBarnyard Activities (weather permitting):– Corn Box – Steer lasso – Photo ops – Paintball (additional cost)\n \n***NEW THIS YEAR***– Handicap Accessible Sidewalk to get to both upstairs and downstairs of the barn!– More outdoor activities!\n \nAdditional Information:– Dress for the weather – Barn is NOT heated– We are open rain\, snow \, or shine  (some outdoor activities are weather permitting)– Must wash hands when entering and exiting the barn**No strollers\, car seats\, pacifiers\, bottles/sippy cups\, food\, or drinks allowed in the barn****Recommend wearing a front or back infant/child carriers for little ones**– Parking located across the road (same as our Fall location)– Handicap Parking Available at the Farm **Please call 920-979-0955 ahead for directions**– Souvenirs\, Apparel\, and Treats Available for Purchase\n \nWe are open on the following dates:– April 3rd: 9 am-4 pm (Good Friday)– April 4th: 9 am-4 pmClosed Easter Sunday (April 5th)\n– April 10th: 9 am-12 pm– April 11th: 9 am-4 pm– April 12th: 9 am-4 pm\n– April 17th: 9 am-12 pm– April 18th: 9 am-4 pm– April 19th: 9 am-4 pm\n– April 24th: 9 am-12 pm– April 25th: 9 am-4 pm– April 26th: 9 am-4 pm\n– May 1st: 9 am-12 pm– May 2nd: 9 am-4 pm– May 3rd: 9 am-4 pm\n– May 8th: 9 am-12 pm– May 9th: 9 am-4 pm– May 10th: 9 am-4 pm (Mother&#x92;s Day)\nFor more details visit our website\, www.kelleysfarmstead.com\n$14 per person (includes tax)\, children under 2 are free
URL:https://www.fdl.com/event/kelleys-farmstead-baby-farm-animal-barn-2/2026-05-08/
LOCATION:Kelley’s Farmstead\, N4149 Kelly Road\, Fond du Lac\, WI\, 54937\, United States
CATEGORIES:Educational + Workshop + Class,Family + Fun,Holiday + Seasonal
ORGANIZER;CN="Clark Kelley":MAILTO:kelleysfarmstead@gmail.com
GEO:43.691287;-88.419213
X-APPLE-STRUCTURED-LOCATION;VALUE=URI;X-ADDRESS=Kelley’s Farmstead N4149 Kelly Road Fond du Lac WI 54937 United States;X-APPLE-RADIUS=500;X-TITLE=N4149 Kelly Road:geo:-88.419213,43.691287
END:VEVENT
BEGIN:VEVENT
DTSTART;TZID=America/Chicago:20260509T090000
DTEND;TZID=America/Chicago:20260509T160000
DTSTAMP:20260420T090125
CREATED:20260224T202300Z
LAST-MODIFIED:20260420T123014Z
UID:10012465-1778317200-1778342400@www.fdl.com
SUMMARY:Kelley&#x92;s Farmstead Baby Farm Animal Barn
DESCRIPTION:Kelley&#x92;s Farmstead is inviting you to their farm for their 6th Annual Baby Farm Animal Barn!\n \nVisit our working farm for a unique\, hands- on experience which allows you to get up close and personal with our new baby farm animals! Hold the soft woolly lambs \, nuzzle a baby bunny \, snuggle a piglet \, listen to a calf moo \, chirp with the chicks \, cuddle a goat \, pet one of our donkeys  \, or quack like a duck . A one-of-a-kind experience!\n \nThe baby farm animals are of utmost importance and come first on the farm.We cannot guarantee all visitors will be able to hold/pet every animal.\nPlease practice patience! The animals require many breaks throughout the day to eat and sleep .\n \nAdmission:– Admission is paid upon arrival at the farm at the Admission Building– We accept cash and credit cards– Animal feed for purchase is $1.00 per cone– Paintballs available for purchase\n \nBarnyard Activities (weather permitting):– Corn Box – Steer lasso – Photo ops – Paintball (additional cost)\n \n***NEW THIS YEAR***– Handicap Accessible Sidewalk to get to both upstairs and downstairs of the barn!– More outdoor activities!\n \nAdditional Information:– Dress for the weather – Barn is NOT heated– We are open rain\, snow \, or shine  (some outdoor activities are weather permitting)– Must wash hands when entering and exiting the barn**No strollers\, car seats\, pacifiers\, bottles/sippy cups\, food\, or drinks allowed in the barn****Recommend wearing a front or back infant/child carriers for little ones**– Parking located across the road (same as our Fall location)– Handicap Parking Available at the Farm **Please call 920-979-0955 ahead for directions**– Souvenirs\, Apparel\, and Treats Available for Purchase\n \nWe are open on the following dates:– April 3rd: 9 am-4 pm (Good Friday)– April 4th: 9 am-4 pmClosed Easter Sunday (April 5th)\n– April 10th: 9 am-12 pm– April 11th: 9 am-4 pm– April 12th: 9 am-4 pm\n– April 17th: 9 am-12 pm– April 18th: 9 am-4 pm– April 19th: 9 am-4 pm\n– April 24th: 9 am-12 pm– April 25th: 9 am-4 pm– April 26th: 9 am-4 pm\n– May 1st: 9 am-12 pm– May 2nd: 9 am-4 pm– May 3rd: 9 am-4 pm\n– May 8th: 9 am-12 pm– May 9th: 9 am-4 pm– May 10th: 9 am-4 pm (Mother&#x92;s Day)\nFor more details visit our website\, www.kelleysfarmstead.com\n$14 per person (includes tax)\, children under 2 are free
URL:https://www.fdl.com/event/kelleys-farmstead-baby-farm-animal-barn/2026-05-09/
LOCATION:Kelley’s Farmstead\, N4149 Kelly Road\, Fond du Lac\, WI\, 54937\, United States
CATEGORIES:Educational + Workshop + Class,Family + Fun,Holiday + Seasonal
ORGANIZER;CN="Clark Kelley":MAILTO:kelleysfarmstead@gmail.com
GEO:43.691287;-88.419213
X-APPLE-STRUCTURED-LOCATION;VALUE=URI;X-ADDRESS=Kelley’s Farmstead N4149 Kelly Road Fond du Lac WI 54937 United States;X-APPLE-RADIUS=500;X-TITLE=N4149 Kelly Road:geo:-88.419213,43.691287
END:VEVENT
BEGIN:VEVENT
DTSTART;TZID=America/Chicago:20260510T090000
DTEND;TZID=America/Chicago:20260510T120000
DTSTAMP:20260420T090125
CREATED:20260323T150600Z
LAST-MODIFIED:20260420T123016Z
UID:10012656-1778403600-1778414400@www.fdl.com
SUMMARY:Kelley&#x92;s Farmstead Baby Farm Animal Barn
DESCRIPTION:Kelley&#x92;s Farmstead is inviting you to their farm for their 6th Annual Baby Farm Animal Barn!\n \nVisit our working farm for a unique\, hands- on experience which allows you to get up close and personal with our new baby farm animals! Hold the soft woolly lambs \, nuzzle a baby bunny \, snuggle a piglet \, listen to a calf moo \, chirp with the chicks \, cuddle a goat \, pet one of our donkeys  \, or quack like a duck . A one-of-a-kind experience!\n \nThe baby farm animals are of utmost importance and come first on the farm.We cannot guarantee all visitors will be able to hold/pet every animal.\nPlease practice patience! The animals require many breaks throughout the day to eat and sleep .\n \nAdmission:– Admission is paid upon arrival at the farm at the Admission Building– We accept cash and credit cards– Animal feed for purchase is $1.00 per cone– Paintballs available for purchase\n \nBarnyard Activities (weather permitting):– Corn Box – Steer lasso – Photo ops – Paintball (additional cost)\n \n***NEW THIS YEAR***– Handicap Accessible Sidewalk to get to both upstairs and downstairs of the barn!– More outdoor activities!\n \nAdditional Information:– Dress for the weather – Barn is NOT heated– We are open rain\, snow \, or shine  (some outdoor activities are weather permitting)– Must wash hands when entering and exiting the barn**No strollers\, car seats\, pacifiers\, bottles/sippy cups\, food\, or drinks allowed in the barn****Recommend wearing a front or back infant/child carriers for little ones**– Parking located across the road (same as our Fall location)– Handicap Parking Available at the Farm **Please call 920-979-0955 ahead for directions**– Souvenirs\, Apparel\, and Treats Available for Purchase\n \nWe are open on the following dates:– April 3rd: 9 am-4 pm (Good Friday)– April 4th: 9 am-4 pmClosed Easter Sunday (April 5th)\n– April 10th: 9 am-12 pm– April 11th: 9 am-4 pm– April 12th: 9 am-4 pm\n– April 17th: 9 am-12 pm– April 18th: 9 am-4 pm– April 19th: 9 am-4 pm\n– April 24th: 9 am-12 pm– April 25th: 9 am-4 pm– April 26th: 9 am-4 pm\n– May 1st: 9 am-12 pm– May 2nd: 9 am-4 pm– May 3rd: 9 am-4 pm\n– May 8th: 9 am-12 pm– May 9th: 9 am-4 pm– May 10th: 9 am-4 pm (Mother&#x92;s Day)\nFor more details visit our website\, www.kelleysfarmstead.com\n$14 per person (includes tax)\, children under 2 are free
URL:https://www.fdl.com/event/kelleys-farmstead-baby-farm-animal-barn-3/2026-05-10/
LOCATION:Kelley’s Farmstead\, N4149 Kelly Road\, Fond du Lac\, WI\, 54937\, United States
CATEGORIES:Educational + Workshop + Class,Family + Fun,Holiday + Seasonal
ORGANIZER;CN="Clark Kelley":MAILTO:kelleysfarmstead@gmail.com
GEO:43.691287;-88.419213
X-APPLE-STRUCTURED-LOCATION;VALUE=URI;X-ADDRESS=Kelley’s Farmstead N4149 Kelly Road Fond du Lac WI 54937 United States;X-APPLE-RADIUS=500;X-TITLE=N4149 Kelly Road:geo:-88.419213,43.691287
END:VEVENT
END:VCALENDAR