BEGIN:VCALENDAR
VERSION:2.0
PRODID:-//Fond du Lac - ECPv6.15.13//NONSGML v1.0//EN
CALSCALE:GREGORIAN
METHOD:PUBLISH
X-ORIGINAL-URL:https://www.fdl.com
X-WR-CALDESC:Events for Fond du Lac
REFRESH-INTERVAL;VALUE=DURATION:PT1H
X-Robots-Tag:noindex
X-PUBLISHED-TTL:PT1H
BEGIN:VTIMEZONE
TZID:America/Chicago
BEGIN:DAYLIGHT
TZOFFSETFROM:-0600
TZOFFSETTO:-0500
TZNAME:CDT
DTSTART:20250309T080000
END:DAYLIGHT
BEGIN:STANDARD
TZOFFSETFROM:-0500
TZOFFSETTO:-0600
TZNAME:CST
DTSTART:20251102T070000
END:STANDARD
BEGIN:DAYLIGHT
TZOFFSETFROM:-0600
TZOFFSETTO:-0500
TZNAME:CDT
DTSTART:20260308T080000
END:DAYLIGHT
BEGIN:STANDARD
TZOFFSETFROM:-0500
TZOFFSETTO:-0600
TZNAME:CST
DTSTART:20261101T070000
END:STANDARD
BEGIN:DAYLIGHT
TZOFFSETFROM:-0600
TZOFFSETTO:-0500
TZNAME:CDT
DTSTART:20270314T080000
END:DAYLIGHT
BEGIN:STANDARD
TZOFFSETFROM:-0500
TZOFFSETTO:-0600
TZNAME:CST
DTSTART:20271107T070000
END:STANDARD
END:VTIMEZONE
BEGIN:VEVENT
DTSTART;TZID=America/Chicago:20260425T190000
DTEND;TZID=America/Chicago:20260425T210000
DTSTAMP:20260421T212343
CREATED:20260213T233000Z
LAST-MODIFIED:20260422T003017Z
UID:10012405-1777143600-1777150800@www.fdl.com
SUMMARY:Terra Luna Luminary Hike and Snipe Hunt
DESCRIPTION:Join us as the stars align for two celebratory hikes through the Prairie. \nThe first available hike will be a luminary hike celebrating Earth Day and Arbor Day\, and is self-guided. \nA guided Snipe Hunt tour will start at 8 pm. \nBoth tours start from the Gottfried Prairie Shelter in the east parking lot near the Fond du Lac County Campus. Complementary cider\, hot chocolate\, and popcorn will be provided. \nPlease note: Grounds may be wet; please bring appropriate footwear.
URL:https://www.fdl.com/event/terra-luna-luminary-hike-and-snipe-hunt/
LOCATION:Gottfried Prairie and Arboretum\, 400 University Drive\, Fond du Lac\, WI\, 54935\, United States
CATEGORIES:Great Outdoors,Sports + Recreation
ORGANIZER;CN="Jo Ann Giese-Kent":MAILTO:jogiesekent@gmail.com
GEO:43.7901857000;-88.4135764000
X-APPLE-STRUCTURED-LOCATION;VALUE=URI;X-ADDRESS=Gottfried Prairie and Arboretum 400 University Drive Fond du Lac WI 54935 United States;X-APPLE-RADIUS=500;X-TITLE=400 University Drive:geo:-88.4135764000,43.7901857000
END:VEVENT
BEGIN:VEVENT
DTSTART;TZID=America/Chicago:20260509T090000
DTEND;TZID=America/Chicago:20260509T100000
DTSTAMP:20260421T212343
CREATED:20260405T222700Z
LAST-MODIFIED:20260422T003025Z
UID:10012841-1778317200-1778320800@www.fdl.com
SUMMARY:Tour of the Prairie &#x96; May
DESCRIPTION:Join us for a tour through the arboretum\, prairie\, and around the pond. Discover something new each month! Each Tour will begin at the Gottfried Shelter (east parking lot adjacent to Fond du Lac County Campus) and take approximately 1 hour. Tours will be every 2nd Saturday of the month.
URL:https://www.fdl.com/event/tour-of-the-prairie-may/
LOCATION:Gottfried Prairie and Arboretum\, 400 University Drive\, Fond du Lac\, WI\, 54935\, United States
CATEGORIES:Community Activity,Educational + Workshop + Class
ORGANIZER;CN="Jo Ann Giese-Kent":MAILTO:info@gottfriedprairiearboretum.org
GEO:43.7901857000;-88.4135764000
X-APPLE-STRUCTURED-LOCATION;VALUE=URI;X-ADDRESS=Gottfried Prairie and Arboretum 400 University Drive Fond du Lac WI 54935 United States;X-APPLE-RADIUS=500;X-TITLE=400 University Drive:geo:-88.4135764000,43.7901857000
END:VEVENT
BEGIN:VEVENT
DTSTART;TZID=America/Chicago:20260613T090000
DTEND;TZID=America/Chicago:20260613T100000
DTSTAMP:20260421T212343
CREATED:20260405T223000Z
LAST-MODIFIED:20260422T003035Z
UID:10012843-1781341200-1781344800@www.fdl.com
SUMMARY:Tour of the Prairie &#x96; June
DESCRIPTION:Join us for a tour through the arboretum\, prairie\, and around the pond. Discover something new each month! Each Tour will begin at the Gottfried Shelter (east parking lot adjacent to Fond du Lac County Campus) and take approximately 1 hour. Tours will be every 2nd Saturday of the month.
URL:https://www.fdl.com/event/tour-of-the-prairie-june/
LOCATION:Gottfried Prairie and Arboretum\, 400 University Drive\, Fond du Lac\, WI\, 54935\, United States
CATEGORIES:Community Activity,Educational + Workshop + Class
ORGANIZER;CN="Jo Ann Giese-Kent":MAILTO:info@gottfriedprairiearboretum.org
GEO:43.7901857000;-88.4135764000
X-APPLE-STRUCTURED-LOCATION;VALUE=URI;X-ADDRESS=Gottfried Prairie and Arboretum 400 University Drive Fond du Lac WI 54935 United States;X-APPLE-RADIUS=500;X-TITLE=400 University Drive:geo:-88.4135764000,43.7901857000
END:VEVENT
BEGIN:VEVENT
DTSTART;TZID=America/Chicago:20260620T203000
DTEND;TZID=America/Chicago:20260620T213000
DTSTAMP:20260421T212343
CREATED:20260405T223900Z
LAST-MODIFIED:20260422T003038Z
UID:10012844-1781987400-1781991000@www.fdl.com
SUMMARY:Fathers & Fireflies
DESCRIPTION:Join us for a Father&#x92;s Day walk through the prairie looking for fireflies. Meet at the Gottfried Shelter (east parking lot near the Fond du Lac County Campus). The group will head out around 8:30 pm. Firefly activity usually starts around 9:00 pm. Led by Douglas Stadler. Bring a flashlight if you wish.
URL:https://www.fdl.com/event/fathers-fireflies/
LOCATION:Gottfried Prairie and Arboretum\, 400 University Drive\, Fond du Lac\, WI\, 54935\, United States
CATEGORIES:Community Activity,Educational + Workshop + Class
ORGANIZER;CN="Jo Ann Giese-Kent":MAILTO:info@gottfriedprairiearboretum.org
GEO:43.7901857000;-88.4135764000
X-APPLE-STRUCTURED-LOCATION;VALUE=URI;X-ADDRESS=Gottfried Prairie and Arboretum 400 University Drive Fond du Lac WI 54935 United States;X-APPLE-RADIUS=500;X-TITLE=400 University Drive:geo:-88.4135764000,43.7901857000
END:VEVENT
BEGIN:VEVENT
DTSTART;TZID=America/Chicago:20260808T090000
DTEND;TZID=America/Chicago:20260808T100000
DTSTAMP:20260421T212343
CREATED:20260405T223200Z
LAST-MODIFIED:20260422T003046Z
UID:10012845-1786179600-1786183200@www.fdl.com
SUMMARY:Tour of the Prairie &#x96; August
DESCRIPTION:Join us for a tour through the arboretum\, prairie\, and around the pond. Discover something new each month! Each Tour will begin at the Gottfried Shelter (east parking lot adjacent to Fond du Lac County Campus) and take approximately 1 hour. Tours will be every 2nd Saturday of the month.
URL:https://www.fdl.com/event/tour-of-the-prairie-august/
LOCATION:Gottfried Prairie and Arboretum\, 400 University Drive\, Fond du Lac\, WI\, 54935\, United States
CATEGORIES:Community Activity,Educational + Workshop + Class
ORGANIZER;CN="Jo Ann Giese-Kent":MAILTO:info@gottfriedprairiearboretum.org
GEO:43.7901857000;-88.4135764000
X-APPLE-STRUCTURED-LOCATION;VALUE=URI;X-ADDRESS=Gottfried Prairie and Arboretum 400 University Drive Fond du Lac WI 54935 United States;X-APPLE-RADIUS=500;X-TITLE=400 University Drive:geo:-88.4135764000,43.7901857000
END:VEVENT
BEGIN:VEVENT
DTSTART;TZID=America/Chicago:20260912T090000
DTEND;TZID=America/Chicago:20260912T100000
DTSTAMP:20260421T212343
CREATED:20260405T223400Z
LAST-MODIFIED:20260422T003049Z
UID:10012850-1789203600-1789207200@www.fdl.com
SUMMARY:Tour of the Prairie &#x96; September
DESCRIPTION:Join us for a tour through the arboretum\, prairie\, and around the pond. Discover something new each month! Each Tour will begin at the Gottfried Shelter (east parking lot adjacent to Fond du Lac County Campus) and take approximately 1 hour. Tours will be every 2nd Saturday of the month.
URL:https://www.fdl.com/event/tour-of-the-prairie-september/
LOCATION:Gottfried Prairie and Arboretum\, 400 University Drive\, Fond du Lac\, WI\, 54935\, United States
CATEGORIES:Community Activity,Educational + Workshop + Class
ORGANIZER;CN="Jo Ann Giese-Kent":MAILTO:info@gottfriedprairiearboretum.org
GEO:43.7901857000;-88.4135764000
X-APPLE-STRUCTURED-LOCATION;VALUE=URI;X-ADDRESS=Gottfried Prairie and Arboretum 400 University Drive Fond du Lac WI 54935 United States;X-APPLE-RADIUS=500;X-TITLE=400 University Drive:geo:-88.4135764000,43.7901857000
END:VEVENT
BEGIN:VEVENT
DTSTART;TZID=America/Chicago:20261010T090000
DTEND;TZID=America/Chicago:20261010T100000
DTSTAMP:20260421T212343
CREATED:20260405T223600Z
LAST-MODIFIED:20260422T003050Z
UID:10012851-1791622800-1791626400@www.fdl.com
SUMMARY:Tour of the Prairie &#x96; October
DESCRIPTION:Join us for a tour through the arboretum\, prairie\, and around the pond. Discover something new each month! Each Tour will begin at the Gottfried Shelter (east parking lot adjacent to Fond du Lac County Campus) and take approximately 1 hour. Tours will be every 2nd Saturday of the month.
URL:https://www.fdl.com/event/tour-of-the-prairie-october/
LOCATION:Gottfried Prairie and Arboretum\, 400 University Drive\, Fond du Lac\, WI\, 54935\, United States
CATEGORIES:Community Activity,Educational + Workshop + Class
ORGANIZER;CN="Jo Ann Giese-Kent":MAILTO:info@gottfriedprairiearboretum.org
GEO:43.7901857000;-88.4135764000
X-APPLE-STRUCTURED-LOCATION;VALUE=URI;X-ADDRESS=Gottfried Prairie and Arboretum 400 University Drive Fond du Lac WI 54935 United States;X-APPLE-RADIUS=500;X-TITLE=400 University Drive:geo:-88.4135764000,43.7901857000
END:VEVENT
END:VCALENDAR