BEGIN:VCALENDAR
VERSION:2.0
PRODID:-//Fond du Lac - ECPv6.15.13//NONSGML v1.0//EN
CALSCALE:GREGORIAN
METHOD:PUBLISH
X-ORIGINAL-URL:https://www.fdl.com
X-WR-CALDESC:Events for Fond du Lac
REFRESH-INTERVAL;VALUE=DURATION:PT1H
X-Robots-Tag:noindex
X-PUBLISHED-TTL:PT1H
BEGIN:VTIMEZONE
TZID:America/Chicago
BEGIN:DAYLIGHT
TZOFFSETFROM:-0600
TZOFFSETTO:-0500
TZNAME:CDT
DTSTART:20250309T080000
END:DAYLIGHT
BEGIN:STANDARD
TZOFFSETFROM:-0500
TZOFFSETTO:-0600
TZNAME:CST
DTSTART:20251102T070000
END:STANDARD
BEGIN:DAYLIGHT
TZOFFSETFROM:-0600
TZOFFSETTO:-0500
TZNAME:CDT
DTSTART:20260308T080000
END:DAYLIGHT
BEGIN:STANDARD
TZOFFSETFROM:-0500
TZOFFSETTO:-0600
TZNAME:CST
DTSTART:20261101T070000
END:STANDARD
BEGIN:DAYLIGHT
TZOFFSETFROM:-0600
TZOFFSETTO:-0500
TZNAME:CDT
DTSTART:20270314T080000
END:DAYLIGHT
BEGIN:STANDARD
TZOFFSETFROM:-0500
TZOFFSETTO:-0600
TZNAME:CST
DTSTART:20271107T070000
END:STANDARD
END:VTIMEZONE
BEGIN:VEVENT
DTSTART;TZID=America/Chicago:20260425T090000
DTEND;TZID=America/Chicago:20260425T150000
DTSTAMP:20260425T231328
CREATED:20260115T141200Z
LAST-MODIFIED:20260426T023020Z
UID:10012009-1777107600-1777129200@www.fdl.com
SUMMARY:Springtime Splendor Art & Craft Expo
DESCRIPTION:Our Springtime Splendor Arts & Crafts Expo is indoors and features only hand-crafted items from paintings\, metal sculptures & wood workings to knit and crochet towels\, bird feeders\, soaps\, jewelry\, and many more unique items. Our vendors have quality handcrafted items that are sure to please everyone. It’s the perfect one-day indoor event for anyone who loves 100% handmade arts and crafts. Sure to please everyone. \nOur Expo hosts over 90 vendors and offers beautifully hand-crafted items\, concessions\, and drawings for attendees throughout the day.
URL:https://www.fdl.com/event/springtime-splendor-art-craft-expo/
LOCATION:Fond du Lac County Fairgrounds-Recreation Center\, 520 Fond du Lac Avenue\, Fond du Lac\, WI\, 54935\, United States
CATEGORIES:Craft Show,Holiday + Seasonal,Shopping
ORGANIZER;CN="Julie Mich":MAILTO:michj@fonddulac.k12.wi.us
GEO:43.7666579;-88.4286961
X-APPLE-STRUCTURED-LOCATION;VALUE=URI;X-ADDRESS=Fond du Lac County Fairgrounds-Recreation Center 520 Fond du Lac Avenue Fond du Lac WI 54935 United States;X-APPLE-RADIUS=500;X-TITLE=520 Fond du Lac Avenue:geo:-88.4286961,43.7666579
END:VEVENT
END:VCALENDAR