BEGIN:VCALENDAR
VERSION:2.0
PRODID:-//Fond du Lac - ECPv6.15.13//NONSGML v1.0//EN
CALSCALE:GREGORIAN
METHOD:PUBLISH
X-WR-CALNAME:Fond du Lac
X-ORIGINAL-URL:https://www.fdl.com
X-WR-CALDESC:Events for Fond du Lac
REFRESH-INTERVAL;VALUE=DURATION:PT1H
X-Robots-Tag:noindex
X-PUBLISHED-TTL:PT1H
BEGIN:VTIMEZONE
TZID:America/Chicago
BEGIN:DAYLIGHT
TZOFFSETFROM:-0600
TZOFFSETTO:-0500
TZNAME:CDT
DTSTART:20250309T080000
END:DAYLIGHT
BEGIN:STANDARD
TZOFFSETFROM:-0500
TZOFFSETTO:-0600
TZNAME:CST
DTSTART:20251102T070000
END:STANDARD
BEGIN:DAYLIGHT
TZOFFSETFROM:-0600
TZOFFSETTO:-0500
TZNAME:CDT
DTSTART:20260308T080000
END:DAYLIGHT
BEGIN:STANDARD
TZOFFSETFROM:-0500
TZOFFSETTO:-0600
TZNAME:CST
DTSTART:20261101T070000
END:STANDARD
BEGIN:DAYLIGHT
TZOFFSETFROM:-0600
TZOFFSETTO:-0500
TZNAME:CDT
DTSTART:20270314T080000
END:DAYLIGHT
BEGIN:STANDARD
TZOFFSETFROM:-0500
TZOFFSETTO:-0600
TZNAME:CST
DTSTART:20271107T070000
END:STANDARD
END:VTIMEZONE
BEGIN:VEVENT
DTSTART;TZID=America/Chicago:20260521T173000
DTEND;TZID=America/Chicago:20260521T203000
DTSTAMP:20260423T063909
CREATED:20260417T143700Z
LAST-MODIFIED:20260423T103530Z
UID:10012937-1779384600-1779395400@www.fdl.com
SUMMARY:Rioja Tasting
DESCRIPTION:Join us Thursday\, May 21\, at 5:30 pm for a very special Rioja tasting. \n​Sara will guide you through six wines from the CVNE winery. Learn about the history and spelling errors of CVNE wine. Taste the oldest white wine of Spain that is still made today. \nTaste and learn about crianza\, reserva\, gran reserva\, imperial\, and imperial gran reserva. \nA light\, complementary spread will be available for your enjoyment. \n​Cost is $40 for the public and $30 for wine club members. \n​Limited to 12 people\, must reserve your spot. Just text 920.948.2599 to get your spot today. \nCall 920.948.2599 to pre-pay and reserve your spot. Non-refundable.
URL:https://www.fdl.com/event/rioja-tasting/
LOCATION:Cujak’s Wine & Spirits\, 47 N Main St\, Fond du Lac\, WI\, 54935\, United States
CATEGORIES:Food + Drink
ORGANIZER;CN="Sara Cujak":MAILTO:cujakswine@gmail.com
GEO:43.7802697000;-88.4466912000
X-APPLE-STRUCTURED-LOCATION;VALUE=URI;X-ADDRESS=Cujak’s Wine & Spirits 47 N Main St Fond du Lac WI 54935 United States;X-APPLE-RADIUS=500;X-TITLE=47 N Main St:geo:-88.4466912000,43.7802697000
END:VEVENT
END:VCALENDAR