BEGIN:VCALENDAR
VERSION:2.0
PRODID:-//Fond du Lac - ECPv6.15.13//NONSGML v1.0//EN
CALSCALE:GREGORIAN
METHOD:PUBLISH
X-ORIGINAL-URL:https://www.fdl.com
X-WR-CALDESC:Events for Fond du Lac
REFRESH-INTERVAL;VALUE=DURATION:PT1H
X-Robots-Tag:noindex
X-PUBLISHED-TTL:PT1H
BEGIN:VTIMEZONE
TZID:America/Chicago
BEGIN:DAYLIGHT
TZOFFSETFROM:-0600
TZOFFSETTO:-0500
TZNAME:CDT
DTSTART:20250309T080000
END:DAYLIGHT
BEGIN:STANDARD
TZOFFSETFROM:-0500
TZOFFSETTO:-0600
TZNAME:CST
DTSTART:20251102T070000
END:STANDARD
BEGIN:DAYLIGHT
TZOFFSETFROM:-0600
TZOFFSETTO:-0500
TZNAME:CDT
DTSTART:20260308T080000
END:DAYLIGHT
BEGIN:STANDARD
TZOFFSETFROM:-0500
TZOFFSETTO:-0600
TZNAME:CST
DTSTART:20261101T070000
END:STANDARD
BEGIN:DAYLIGHT
TZOFFSETFROM:-0600
TZOFFSETTO:-0500
TZNAME:CDT
DTSTART:20270314T080000
END:DAYLIGHT
BEGIN:STANDARD
TZOFFSETFROM:-0500
TZOFFSETTO:-0600
TZNAME:CST
DTSTART:20271107T070000
END:STANDARD
END:VTIMEZONE
BEGIN:VEVENT
DTSTART;TZID=America/Chicago:20261107T110000
DTEND;TZID=America/Chicago:20261107T150000
DTSTAMP:20260422T071053
CREATED:20251212T182200Z
LAST-MODIFIED:20260422T103012Z
UID:10011725-1794049200-1794063600@www.fdl.com
SUMMARY:Hearthside Dinners
DESCRIPTION:Wisconsin Winter | Saturday\, Jan 24 & Feb 14\, 2026 | 11 AM&#x96;3 PM \nYankee | Saturday\, Mar 14 & Apr 11\, 2026 | 11 AM&#x96;3 PM \nGerman | Saturday\, Nov 7 & 14\, 2026 | 11 AM&#x96;3 PM \nSit Down to a Hearth-Cooked 19th-Century MealEnjoy a delicious hearth-cooked meal prepared by your own hands in the historic Wade House Stagecoach Hotel. From wild rice soup and pork ragout to a Yankee pot roast served alongside brethren cheddar bread and apple pandowdy\, cook delicious and authentic 1800s-style meals over wood-burning stoves just as Wade House matriarch Betsey Wade did more than 150 years ago. Once food is ready\, sit down and enjoy the fruits of your labor during a family-style dinner in the quaint and lovely Wade House dining room. \nMeal ThemesWisconsin Winter: Includes wild rice soup\, pork ragout\, maple-glazed sweet potatoes\, baked macaroni and cheese\, buttermilk biscuits\, applesauce with lemon and nutmeg\, and cranberry apple cobbler. \nYankee: Includes corn chowder\, Yankee pot roast with vegetables\, ragout of French beans or succotash\, brandied cranberry sauce\, brethren cheddar bread\, apple pandowdy\, and Muster Day gingerbread. \nGerman: Includes potato leek soup\, sauerbraten (spiced beef roast)\, spaetzle (German noodles)\, Dutch beans/carrots\, Pennsylvania-style sauerkraut\, apple bread\, and krumkake (sour cream coffee cake). \nWhat You&#x92;ll ExperienceA unique cooking experience involving 1800s recipes and meal preparation \nThemed menus incorporating a variety of traditional and cultural dishes \nThe chance to experience a Wade House dinner as guests and residents once did more than 150 years ago \nGuests must be age 13 or older to attend.Advanced registration is required by the Thursday prior to the event. \nSociety members receive a 10% discount
URL:https://www.fdl.com/event/hearthside-dinners/2026-11-07/
LOCATION:Wade House Historic Site\, W7965 Highway 23\, Greenbush\, WI\, 53026\, United States
CATEGORIES:Educational + Workshop + Class,Food + Drink,Holiday + Seasonal
ORGANIZER;CN="wadehouse@wisconsinhistory.org":MAILTO:wadehouse@wisconsinhistory.org
GEO:43.7820564;-88.089744
X-APPLE-STRUCTURED-LOCATION;VALUE=URI;X-ADDRESS=Wade House Historic Site W7965 Highway 23 Greenbush WI 53026 United States;X-APPLE-RADIUS=500;X-TITLE=W7965 Highway 23:geo:-88.089744,43.7820564
END:VEVENT
BEGIN:VEVENT
DTSTART;TZID=America/Chicago:20261114T110000
DTEND;TZID=America/Chicago:20261114T150000
DTSTAMP:20260422T071053
CREATED:20251212T182200Z
LAST-MODIFIED:20260422T103012Z
UID:10011726-1794654000-1794668400@www.fdl.com
SUMMARY:Hearthside Dinners
DESCRIPTION:Wisconsin Winter | Saturday\, Jan 24 & Feb 14\, 2026 | 11 AM&#x96;3 PM \nYankee | Saturday\, Mar 14 & Apr 11\, 2026 | 11 AM&#x96;3 PM \nGerman | Saturday\, Nov 7 & 14\, 2026 | 11 AM&#x96;3 PM \nSit Down to a Hearth-Cooked 19th-Century MealEnjoy a delicious hearth-cooked meal prepared by your own hands in the historic Wade House Stagecoach Hotel. From wild rice soup and pork ragout to a Yankee pot roast served alongside brethren cheddar bread and apple pandowdy\, cook delicious and authentic 1800s-style meals over wood-burning stoves just as Wade House matriarch Betsey Wade did more than 150 years ago. Once food is ready\, sit down and enjoy the fruits of your labor during a family-style dinner in the quaint and lovely Wade House dining room. \nMeal ThemesWisconsin Winter: Includes wild rice soup\, pork ragout\, maple-glazed sweet potatoes\, baked macaroni and cheese\, buttermilk biscuits\, applesauce with lemon and nutmeg\, and cranberry apple cobbler. \nYankee: Includes corn chowder\, Yankee pot roast with vegetables\, ragout of French beans or succotash\, brandied cranberry sauce\, brethren cheddar bread\, apple pandowdy\, and Muster Day gingerbread. \nGerman: Includes potato leek soup\, sauerbraten (spiced beef roast)\, spaetzle (German noodles)\, Dutch beans/carrots\, Pennsylvania-style sauerkraut\, apple bread\, and krumkake (sour cream coffee cake). \nWhat You&#x92;ll ExperienceA unique cooking experience involving 1800s recipes and meal preparation \nThemed menus incorporating a variety of traditional and cultural dishes \nThe chance to experience a Wade House dinner as guests and residents once did more than 150 years ago \nGuests must be age 13 or older to attend.Advanced registration is required by the Thursday prior to the event. \nSociety members receive a 10% discount
URL:https://www.fdl.com/event/hearthside-dinners/2026-11-14/
LOCATION:Wade House Historic Site\, W7965 Highway 23\, Greenbush\, WI\, 53026\, United States
CATEGORIES:Educational + Workshop + Class,Food + Drink,Holiday + Seasonal
ORGANIZER;CN="wadehouse@wisconsinhistory.org":MAILTO:wadehouse@wisconsinhistory.org
GEO:43.7820564;-88.089744
X-APPLE-STRUCTURED-LOCATION;VALUE=URI;X-ADDRESS=Wade House Historic Site W7965 Highway 23 Greenbush WI 53026 United States;X-APPLE-RADIUS=500;X-TITLE=W7965 Highway 23:geo:-88.089744,43.7820564
END:VEVENT
END:VCALENDAR