BEGIN:VCALENDAR
VERSION:2.0
PRODID:-//Fond du Lac - ECPv6.15.13//NONSGML v1.0//EN
CALSCALE:GREGORIAN
METHOD:PUBLISH
X-ORIGINAL-URL:https://www.fdl.com
X-WR-CALDESC:Events for Fond du Lac
REFRESH-INTERVAL;VALUE=DURATION:PT1H
X-Robots-Tag:noindex
X-PUBLISHED-TTL:PT1H
BEGIN:VTIMEZONE
TZID:America/Chicago
BEGIN:DAYLIGHT
TZOFFSETFROM:-0600
TZOFFSETTO:-0500
TZNAME:CDT
DTSTART:20250309T080000
END:DAYLIGHT
BEGIN:STANDARD
TZOFFSETFROM:-0500
TZOFFSETTO:-0600
TZNAME:CST
DTSTART:20251102T070000
END:STANDARD
BEGIN:DAYLIGHT
TZOFFSETFROM:-0600
TZOFFSETTO:-0500
TZNAME:CDT
DTSTART:20260308T080000
END:DAYLIGHT
BEGIN:STANDARD
TZOFFSETFROM:-0500
TZOFFSETTO:-0600
TZNAME:CST
DTSTART:20261101T070000
END:STANDARD
BEGIN:DAYLIGHT
TZOFFSETFROM:-0600
TZOFFSETTO:-0500
TZNAME:CDT
DTSTART:20270314T080000
END:DAYLIGHT
BEGIN:STANDARD
TZOFFSETFROM:-0500
TZOFFSETTO:-0600
TZNAME:CST
DTSTART:20271107T070000
END:STANDARD
END:VTIMEZONE
BEGIN:VEVENT
DTSTART;TZID=America/Chicago:20260530T080000
DTEND;TZID=America/Chicago:20260530T110000
DTSTAMP:20260421T150648
CREATED:20260417T170100Z
LAST-MODIFIED:20260421T183033Z
UID:10012938-1780128000-1780138800@www.fdl.com
SUMMARY:Miles 4 Minds 4K Run/Walk
DESCRIPTION:Participate in this non-timed 4K run/walk\, empowering youth to support their mental health while raising awareness about community mental health resources\, building resilience\, and reminding our community that no one is alone. \nThis event is brought to you by the 2025-2026 Youth Leadership Fond du Lac cohort in partnership with SSM Health and the Fond du Lac County Health Department. A free community partner mental health awareness fair will be available during the event inside the Fond du Lac County Campus building.  \n\nRefreshments will be provided for participants after the run/walk.\nDoor prizes will be drawn after the run/walk.\n\nRegister online through Friday\nClick here for ticket information.
URL:https://www.fdl.com/event/miles-4-minds-4k-run-walk/
LOCATION:Fond du Lac County Campus\, 400 University Drive\, Fond du Lac\, WI\, 54935\, United States
CATEGORIES:Community Activity,Sports + Recreation
ORGANIZER;CN="Samantha King":MAILTO:youth@sophiapartners.org
GEO:43.7906529;-88.4149401
X-APPLE-STRUCTURED-LOCATION;VALUE=URI;X-ADDRESS=Fond du Lac County Campus 400 University Drive Fond du Lac WI 54935 United States;X-APPLE-RADIUS=500;X-TITLE=400 University Drive:geo:-88.4149401,43.7906529
END:VEVENT
END:VCALENDAR