BEGIN:VCALENDAR
VERSION:2.0
PRODID:-//Fond du Lac - ECPv6.15.13//NONSGML v1.0//EN
CALSCALE:GREGORIAN
METHOD:PUBLISH
X-WR-CALNAME:Fond du Lac
X-ORIGINAL-URL:https://www.fdl.com
X-WR-CALDESC:Events for Fond du Lac
REFRESH-INTERVAL;VALUE=DURATION:PT1H
X-Robots-Tag:noindex
X-PUBLISHED-TTL:PT1H
BEGIN:VTIMEZONE
TZID:America/Chicago
BEGIN:DAYLIGHT
TZOFFSETFROM:-0600
TZOFFSETTO:-0500
TZNAME:CDT
DTSTART:20250309T080000
END:DAYLIGHT
BEGIN:STANDARD
TZOFFSETFROM:-0500
TZOFFSETTO:-0600
TZNAME:CST
DTSTART:20251102T070000
END:STANDARD
BEGIN:DAYLIGHT
TZOFFSETFROM:-0600
TZOFFSETTO:-0500
TZNAME:CDT
DTSTART:20260308T080000
END:DAYLIGHT
BEGIN:STANDARD
TZOFFSETFROM:-0500
TZOFFSETTO:-0600
TZNAME:CST
DTSTART:20261101T070000
END:STANDARD
BEGIN:DAYLIGHT
TZOFFSETFROM:-0600
TZOFFSETTO:-0500
TZNAME:CDT
DTSTART:20270314T080000
END:DAYLIGHT
BEGIN:STANDARD
TZOFFSETFROM:-0500
TZOFFSETTO:-0600
TZNAME:CST
DTSTART:20271107T070000
END:STANDARD
END:VTIMEZONE
BEGIN:VEVENT
DTSTART;TZID=America/Chicago:20260507T090000
DTEND;TZID=America/Chicago:20260507T170000
DTSTAMP:20260425T214853
CREATED:20260422T120700Z
LAST-MODIFIED:20260426T023025Z
UID:10012983-1778144400-1778173200@www.fdl.com
SUMMARY:Church of Peace Indoor Rummage Sale
DESCRIPTION:Church of Peace Spring Indoor Rummage Sale + Jewelry Sale
URL:https://www.fdl.com/event/church-of-peace-indoor-rummage-sale/
LOCATION:Church of Peace\, 158 S. Military Rd.\, Fond du Lac\, WI\, 54935\, United States
CATEGORIES:Community Activity
ORGANIZER;CN="Rachel":MAILTO:SundaySchool@churchofpeaceuccfdl.org
GEO:43.7744433;-88.4529097
X-APPLE-STRUCTURED-LOCATION;VALUE=URI;X-ADDRESS=Church of Peace 158 S. Military Rd. Fond du Lac WI 54935 United States;X-APPLE-RADIUS=500;X-TITLE=158 S. Military Rd.:geo:-88.4529097,43.7744433
END:VEVENT
BEGIN:VEVENT
DTSTART;TZID=America/Chicago:20260508T090000
DTEND;TZID=America/Chicago:20260508T170000
DTSTAMP:20260425T214853
CREATED:20260422T121000Z
LAST-MODIFIED:20260426T023026Z
UID:10012984-1778230800-1778259600@www.fdl.com
SUMMARY:Indoor Rummage Sale
DESCRIPTION:Church of Peace Indoor Rummage Sale + Jewelry Sale
URL:https://www.fdl.com/event/indoor-rummage-sale/
LOCATION:Church of Peace\, 158 S. Military Rd.\, Fond du Lac\, WI\, 54935\, United States
CATEGORIES:Community Activity
ORGANIZER;CN="Rachel":MAILTO:SundaySchool@churchofpeaceuccfdl.org
GEO:43.7744433;-88.4529097
X-APPLE-STRUCTURED-LOCATION;VALUE=URI;X-ADDRESS=Church of Peace 158 S. Military Rd. Fond du Lac WI 54935 United States;X-APPLE-RADIUS=500;X-TITLE=158 S. Military Rd.:geo:-88.4529097,43.7744433
END:VEVENT
BEGIN:VEVENT
DTSTART;TZID=America/Chicago:20260509T090000
DTEND;TZID=America/Chicago:20260509T140000
DTSTAMP:20260425T214853
CREATED:20260422T121500Z
LAST-MODIFIED:20260426T023027Z
UID:10012985-1778317200-1778335200@www.fdl.com
SUMMARY:Indoor Rummage Sale
DESCRIPTION:Church of Peace Indoor Spring Rummage Sale + Jewelry Sale**The BAG SALE is Saturday 12:00-2:00 – Everything else is 50% off.
URL:https://www.fdl.com/event/indoor-rummage-sale-2/
LOCATION:Church of Peace\, 158 S. Military Rd.\, Fond du Lac\, WI\, 54935\, United States
CATEGORIES:Community Activity
ORGANIZER;CN="Rachel":MAILTO:SundaySchool@churchofpeaceuccfdl.org
GEO:43.7744433;-88.4529097
X-APPLE-STRUCTURED-LOCATION;VALUE=URI;X-ADDRESS=Church of Peace 158 S. Military Rd. Fond du Lac WI 54935 United States;X-APPLE-RADIUS=500;X-TITLE=158 S. Military Rd.:geo:-88.4529097,43.7744433
END:VEVENT
END:VCALENDAR