BEGIN:VCALENDAR
VERSION:2.0
PRODID:-//Fond du Lac - ECPv6.15.13//NONSGML v1.0//EN
CALSCALE:GREGORIAN
METHOD:PUBLISH
X-WR-CALNAME:Fond du Lac
X-ORIGINAL-URL:https://www.fdl.com
X-WR-CALDESC:Events for Fond du Lac
REFRESH-INTERVAL;VALUE=DURATION:PT1H
X-Robots-Tag:noindex
X-PUBLISHED-TTL:PT1H
BEGIN:VTIMEZONE
TZID:America/Chicago
BEGIN:DAYLIGHT
TZOFFSETFROM:-0600
TZOFFSETTO:-0500
TZNAME:CDT
DTSTART:20250309T080000
END:DAYLIGHT
BEGIN:STANDARD
TZOFFSETFROM:-0500
TZOFFSETTO:-0600
TZNAME:CST
DTSTART:20251102T070000
END:STANDARD
BEGIN:DAYLIGHT
TZOFFSETFROM:-0600
TZOFFSETTO:-0500
TZNAME:CDT
DTSTART:20260308T080000
END:DAYLIGHT
BEGIN:STANDARD
TZOFFSETFROM:-0500
TZOFFSETTO:-0600
TZNAME:CST
DTSTART:20261101T070000
END:STANDARD
BEGIN:DAYLIGHT
TZOFFSETFROM:-0600
TZOFFSETTO:-0500
TZNAME:CDT
DTSTART:20270314T080000
END:DAYLIGHT
BEGIN:STANDARD
TZOFFSETFROM:-0500
TZOFFSETTO:-0600
TZNAME:CST
DTSTART:20271107T070000
END:STANDARD
END:VTIMEZONE
BEGIN:VEVENT
DTSTART;TZID=America/Chicago:20261014T173000
DTEND;TZID=America/Chicago:20261014T203000
DTSTAMP:20260422T194302
CREATED:20260327T202200Z
LAST-MODIFIED:20260423T003551Z
UID:10012751-1791999000-1792009800@www.fdl.com
SUMMARY:Hard Hats & Heels Gala for Habitat for Humanity of Fond du Lac County
DESCRIPTION:Habitat for Humanity of Fond du Lac County will be celebrating our successful 2026 house build with an evening of festivities\, including a live and silent auction\, cork pull\, bourbon raffle\, and 50/50 raffle. We will announce our building partners and celebrate our volunteer of the year and partner family. Tickets are $75 each or a table of 8 for $600. Sponsorships are available. \nTickets available now by calling 920-921-6623 or emailing: info@habitatfdl.org \nClick here for ticket information.
URL:https://www.fdl.com/event/hard-hats-heels-gala-for-habitat-for-humanity-of-fond-du-lac-county/
LOCATION:Radisson Hotel and Conference Center\, 625 W. Rolling Meadows Drive\, Fond du Lac\, WI\, 54937\, United States
CATEGORIES:Community Activity
ORGANIZER;CN="Kathy Strong Langolf":MAILTO:kathy@habitatfdl.org
GEO:43.7562741;-88.4764378
X-APPLE-STRUCTURED-LOCATION;VALUE=URI;X-ADDRESS=Radisson Hotel and Conference Center 625 W. Rolling Meadows Drive Fond du Lac WI 54937 United States;X-APPLE-RADIUS=500;X-TITLE=625 W. Rolling Meadows Drive:geo:-88.4764378,43.7562741
END:VEVENT
END:VCALENDAR