BEGIN:VCALENDAR
VERSION:2.0
PRODID:-//Fond du Lac - ECPv6.15.13//NONSGML v1.0//EN
CALSCALE:GREGORIAN
METHOD:PUBLISH
X-WR-CALNAME:Fond du Lac
X-ORIGINAL-URL:https://www.fdl.com
X-WR-CALDESC:Events for Fond du Lac
REFRESH-INTERVAL;VALUE=DURATION:PT1H
X-Robots-Tag:noindex
X-PUBLISHED-TTL:PT1H
BEGIN:VTIMEZONE
TZID:America/Chicago
BEGIN:DAYLIGHT
TZOFFSETFROM:-0600
TZOFFSETTO:-0500
TZNAME:CDT
DTSTART:20250309T080000
END:DAYLIGHT
BEGIN:STANDARD
TZOFFSETFROM:-0500
TZOFFSETTO:-0600
TZNAME:CST
DTSTART:20251102T070000
END:STANDARD
BEGIN:DAYLIGHT
TZOFFSETFROM:-0600
TZOFFSETTO:-0500
TZNAME:CDT
DTSTART:20260308T080000
END:DAYLIGHT
BEGIN:STANDARD
TZOFFSETFROM:-0500
TZOFFSETTO:-0600
TZNAME:CST
DTSTART:20261101T070000
END:STANDARD
BEGIN:DAYLIGHT
TZOFFSETFROM:-0600
TZOFFSETTO:-0500
TZNAME:CDT
DTSTART:20270314T080000
END:DAYLIGHT
BEGIN:STANDARD
TZOFFSETFROM:-0500
TZOFFSETTO:-0600
TZNAME:CST
DTSTART:20271107T070000
END:STANDARD
END:VTIMEZONE
BEGIN:VEVENT
DTSTART;TZID=America/Chicago:20260423T180000
DTEND;TZID=America/Chicago:20260423T210000
DTSTAMP:20260421T104314
CREATED:20260319T171400Z
LAST-MODIFIED:20260421T143512Z
UID:10012628-1776967200-1776978000@www.fdl.com
SUMMARY:Mix Master Bingo
DESCRIPTION:Competitive FUN with friends and families for all ages. DJ Galaxy is pulling out all the stops to make Thursday nights at Blue Line Tavern exciting. Hear the hits\, sing along\, mark your card\, win prizes! All FREE FUN!! 
URL:https://www.fdl.com/event/mix-master-bingo/2026-04-23/
LOCATION:Blue Line Tavern\, 90 S. Main Street\, Fond du Lac\, WI\, 54935\, United States
CATEGORIES:Music + Entertainment
ORGANIZER;CN="Kari Koenigs":MAILTO:bluelinetavernfdl@gmail.com
GEO:43.7764011;-88.4473236
X-APPLE-STRUCTURED-LOCATION;VALUE=URI;X-ADDRESS=Blue Line Tavern 90 S. Main Street Fond du Lac WI 54935 United States;X-APPLE-RADIUS=500;X-TITLE=90 S. Main Street:geo:-88.4473236,43.7764011
END:VEVENT
BEGIN:VEVENT
DTSTART;TZID=America/Chicago:20260430T180000
DTEND;TZID=America/Chicago:20260430T210000
DTSTAMP:20260421T104314
CREATED:20260319T171400Z
LAST-MODIFIED:20260421T143512Z
UID:10012666-1777572000-1777582800@www.fdl.com
SUMMARY:Mix Master Bingo
DESCRIPTION:Competitive FUN with friends and families for all ages. DJ Galaxy is pulling out all the stops to make Thursday nights at Blue Line Tavern exciting. Hear the hits\, sing along\, mark your card\, win prizes! All FREE FUN!! 
URL:https://www.fdl.com/event/mix-master-bingo/2026-04-30/
LOCATION:Blue Line Tavern\, 90 S. Main Street\, Fond du Lac\, WI\, 54935\, United States
CATEGORIES:Music + Entertainment
ORGANIZER;CN="Kari Koenigs":MAILTO:bluelinetavernfdl@gmail.com
GEO:43.7764011;-88.4473236
X-APPLE-STRUCTURED-LOCATION;VALUE=URI;X-ADDRESS=Blue Line Tavern 90 S. Main Street Fond du Lac WI 54935 United States;X-APPLE-RADIUS=500;X-TITLE=90 S. Main Street:geo:-88.4473236,43.7764011
END:VEVENT
END:VCALENDAR