BEGIN:VCALENDAR
VERSION:2.0
PRODID:-//Fond du Lac - ECPv6.15.13//NONSGML v1.0//EN
CALSCALE:GREGORIAN
METHOD:PUBLISH
X-WR-CALNAME:Fond du Lac
X-ORIGINAL-URL:https://www.fdl.com
X-WR-CALDESC:Events for Fond du Lac
REFRESH-INTERVAL;VALUE=DURATION:PT1H
X-Robots-Tag:noindex
X-PUBLISHED-TTL:PT1H
BEGIN:VTIMEZONE
TZID:America/Chicago
BEGIN:DAYLIGHT
TZOFFSETFROM:-0600
TZOFFSETTO:-0500
TZNAME:CDT
DTSTART:20250309T080000
END:DAYLIGHT
BEGIN:STANDARD
TZOFFSETFROM:-0500
TZOFFSETTO:-0600
TZNAME:CST
DTSTART:20251102T070000
END:STANDARD
BEGIN:DAYLIGHT
TZOFFSETFROM:-0600
TZOFFSETTO:-0500
TZNAME:CDT
DTSTART:20260308T080000
END:DAYLIGHT
BEGIN:STANDARD
TZOFFSETFROM:-0500
TZOFFSETTO:-0600
TZNAME:CST
DTSTART:20261101T070000
END:STANDARD
BEGIN:DAYLIGHT
TZOFFSETFROM:-0600
TZOFFSETTO:-0500
TZNAME:CDT
DTSTART:20270314T080000
END:DAYLIGHT
BEGIN:STANDARD
TZOFFSETFROM:-0500
TZOFFSETTO:-0600
TZNAME:CST
DTSTART:20271107T070000
END:STANDARD
END:VTIMEZONE
BEGIN:VEVENT
DTSTART;TZID=America/Chicago:20260612T153000
DTEND;TZID=America/Chicago:20260612T190000
DTSTAMP:20260425T131357
CREATED:20260401T202000Z
LAST-MODIFIED:20260425T163044Z
UID:10012755-1781278200-1781290800@www.fdl.com
SUMMARY:Walleye Weekend Pier Pups Session
DESCRIPTION:Location: Main Street \nEvent Details: We love dogs! Jumping\, flying\, splashing&#x85;.oh my! If your dog loves the water\, you will want to try Pier Pups Canine Dock Jumping. This is their 7th year of what is to become a tradition at Walleye Weekend. The first session starts on Friday\, June 12th\, at 3:30 pm.  Sessions will be continuous throughout the day/evening. \nFriday\, June 12th: 3:30 pm\, 5 pm\, 6:30 pm \nSaturday\, June 13th: 11:30 am\, 1 pm\, 3 pm\, 5 pm \nSunday\, June 14th: 10 am\, 12 pm\, 2 pm\, 4 pm \n  \nSponsored by: Summit Automotive \n  \n 
URL:https://www.fdl.com/event/walleye-weekend-pier-pups-session/
LOCATION:Lakeside Park\, 555 N. Park Avenue\, Fond du Lac\, WI\, 54935\, United States
CATEGORIES:Family + Fun,Festival
ORGANIZER;CN="Fond du Lac Festivals":MAILTO:info@fdlfest.com
GEO:43.7958006;-88.4415998
X-APPLE-STRUCTURED-LOCATION;VALUE=URI;X-ADDRESS=Lakeside Park 555 N. Park Avenue Fond du Lac WI 54935 United States;X-APPLE-RADIUS=500;X-TITLE=555 N. Park Avenue:geo:-88.4415998,43.7958006
END:VEVENT
BEGIN:VEVENT
DTSTART;TZID=America/Chicago:20260612T163000
DTEND;TZID=America/Chicago:20260612T190000
DTSTAMP:20260425T131357
CREATED:20260401T202400Z
LAST-MODIFIED:20260425T163044Z
UID:10012756-1781281800-1781290800@www.fdl.com
SUMMARY:Walleye Weekend Wild World of Animals
DESCRIPTION:Location: Mercury Island \nEvent Details: Animals appearing on the Michels Corporation Wild World of Animals Stage include: large alligator\, snapping turtle\, large and small American alligator\, large reticulated python\, albino monocle cobra\, European eagle owl\, blue and gold macaw\, opossum\, binturong\, spot-nose guenon\, African spotted leopard\, pug-(dog)\, two pot-bellied pigs\, emperor scorpion\, leopard gecko\, African millipede\, ball python and marine toad. Click here to visit the Wild World of Animals official website. \n  \nFriday\, June 12th: 4:30 pm\, 6:30 pm \nSaturday\, June 13th: 11 am\, 2 pm\, 4 pm\, 6 pm \nSunday\, June 14th: 11:30 am\, 1:30 pm\, 3:30 pm \n  \nSponsored by: Michels Corporation \n  \n 
URL:https://www.fdl.com/event/walleye-weekend-wild-world-of-animals/
LOCATION:Lakeside Park\, 555 N. Park Avenue\, Fond du Lac\, WI\, 54935\, United States
CATEGORIES:Family + Fun,Festival
ORGANIZER;CN="Fond du Lac Festivals":MAILTO:info@fdlfest.com
GEO:43.7958006;-88.4415998
X-APPLE-STRUCTURED-LOCATION;VALUE=URI;X-ADDRESS=Lakeside Park 555 N. Park Avenue Fond du Lac WI 54935 United States;X-APPLE-RADIUS=500;X-TITLE=555 N. Park Avenue:geo:-88.4415998,43.7958006
END:VEVENT
BEGIN:VEVENT
DTSTART;TZID=America/Chicago:20260613T110000
DTEND;TZID=America/Chicago:20260613T180000
DTSTAMP:20260425T131357
CREATED:20260401T201700Z
LAST-MODIFIED:20260425T163045Z
UID:10012762-1781348400-1781373600@www.fdl.com
SUMMARY:Walleye Weekend Fun on the Run Animal Racing
DESCRIPTION:Location: FamilyLand \nEvent Details: There&#x92;s a New Event at Walleye Weekend! Join the festivities at Walleye Weekend and watch animal races throughout the day on both Saturday\, June 13th\, and Sunday\, June 14th. Root for your favorite racer in each fleet of duck\, pig\, and goat races and learn more about these animals! \nSaturday\, June 13th: 11 am &#x96; 6 pm \nSunday\, June 14th: 11 am &#x96; 4 pm \nSponsored by: Edward Jones
URL:https://www.fdl.com/event/walleye-weekend-fun-on-the-run-animal-racing/
LOCATION:Lakeside Park\, 555 N. Park Avenue\, Fond du Lac\, WI\, 54935\, United States
CATEGORIES:Family + Fun,Festival
ORGANIZER;CN="Fond du Lac Festivals":MAILTO:info@fdlfest.com
GEO:43.7958006;-88.4415998
X-APPLE-STRUCTURED-LOCATION;VALUE=URI;X-ADDRESS=Lakeside Park 555 N. Park Avenue Fond du Lac WI 54935 United States;X-APPLE-RADIUS=500;X-TITLE=555 N. Park Avenue:geo:-88.4415998,43.7958006
END:VEVENT
BEGIN:VEVENT
DTSTART;TZID=America/Chicago:20260613T110000
DTEND;TZID=America/Chicago:20260613T190000
DTSTAMP:20260425T131357
CREATED:20260401T202500Z
LAST-MODIFIED:20260425T163045Z
UID:10012764-1781348400-1781377200@www.fdl.com
SUMMARY:Walleye Weekend Wild World of Animals
DESCRIPTION:Location: Mercury Island \nEvent Details: Animals appearing on the Michels Corporation Wild World of Animals Stage include: large alligator\, snapping turtle\, large and small American alligator\, large reticulated python\, albino monocle cobra\, European eagle owl\, blue and gold macaw\, opossum\, binturong\, spot-nose guenon\, African spotted leopard\, pug-(dog)\, two pot-bellied pigs\, emperor scorpion\, leopard gecko\, African millipede\, ball python and marine toad. Click here to visit the Wild World of Animals official website. \n  \nFriday\, June 12th: 4:30 pm\, 6:30 pm \nSaturday\, June 13th: 11 am\, 2 pm\, 4 pm\, 6 pm \nSunday\, June 14th: 11:30 am\, 1:30 pm\, 3:30 pm \n  \nSponsored by: Michels Corporation \n  \n 
URL:https://www.fdl.com/event/walleye-weekend-wild-world-of-animals-2/
LOCATION:Lakeside Park\, 555 N. Park Avenue\, Fond du Lac\, WI\, 54935\, United States
CATEGORIES:Family + Fun,Festival
ORGANIZER;CN="Fond du Lac Festivals":MAILTO:info@fdlfest.com
GEO:43.7958006;-88.4415998
X-APPLE-STRUCTURED-LOCATION;VALUE=URI;X-ADDRESS=Lakeside Park 555 N. Park Avenue Fond du Lac WI 54935 United States;X-APPLE-RADIUS=500;X-TITLE=555 N. Park Avenue:geo:-88.4415998,43.7958006
END:VEVENT
BEGIN:VEVENT
DTSTART;TZID=America/Chicago:20260613T113000
DTEND;TZID=America/Chicago:20260613T190000
DTSTAMP:20260425T131357
CREATED:20260401T202100Z
LAST-MODIFIED:20260425T163045Z
UID:10012763-1781350200-1781377200@www.fdl.com
SUMMARY:Walleye Weekend Pier Pups Session
DESCRIPTION:Location: Main Street \nEvent Details: We love dogs! Jumping\, flying\, splashing&#x85;.oh my! If your dog loves the water\, you will want to try Pier Pups Canine Dock Jumping. This is their 7th year of what is to become a tradition at Walleye Weekend. The first session starts on Friday\, June 12th\, at 3:30 pm.  Sessions will be continuous throughout the day/evening. \nFriday\, June 12th: 3:30 pm\, 5 pm\, 6:30 pm \nSaturday\, June 13th: 11:30 am\, 1 pm\, 3 pm\, 5 pm \nSunday\, June 14th: 10 am\, 12 pm\, 2 pm\, 4 pm \n  \nSponsored by: Summit Automotive \n  \n 
URL:https://www.fdl.com/event/walleye-weekend-pier-pups-session-2/
LOCATION:Lakeside Park\, 555 N. Park Avenue\, Fond du Lac\, WI\, 54935\, United States
CATEGORIES:Family + Fun,Festival
ORGANIZER;CN="Fond du Lac Festivals":MAILTO:info@fdlfest.com
GEO:43.7958006;-88.4415998
X-APPLE-STRUCTURED-LOCATION;VALUE=URI;X-ADDRESS=Lakeside Park 555 N. Park Avenue Fond du Lac WI 54935 United States;X-APPLE-RADIUS=500;X-TITLE=555 N. Park Avenue:geo:-88.4415998,43.7958006
END:VEVENT
BEGIN:VEVENT
DTSTART;TZID=America/Chicago:20260614T100000
DTEND;TZID=America/Chicago:20260614T170000
DTSTAMP:20260425T131357
CREATED:20260401T202200Z
LAST-MODIFIED:20260425T163046Z
UID:10012768-1781431200-1781456400@www.fdl.com
SUMMARY:Walleye Weekend Pier Pups Session
DESCRIPTION:Location: Main Street \nEvent Details: We love dogs! Jumping\, flying\, splashing&#x85;.oh my! If your dog loves the water\, you will want to try Pier Pups Canine Dock Jumping. This is their 7th year of what is to become a tradition at Walleye Weekend. The first session starts on Friday\, June 12th\, at 3:30 pm.  Sessions will be continuous throughout the day/evening. \nFriday\, June 12th: 3:30 pm\, 5 pm\, 6:30 pm \nSaturday\, June 13th: 11:30 am\, 1 pm\, 3 pm\, 5 pm \nSunday\, June 14th: 10 am\, 12 pm\, 2 pm\, 4 pm \n  \nSponsored by: Summit Automotive \n  \n 
URL:https://www.fdl.com/event/walleye-weekend-pier-pups-session-3/
LOCATION:Lakeside Park\, 555 N. Park Avenue\, Fond du Lac\, WI\, 54935\, United States
CATEGORIES:Family + Fun,Festival
ORGANIZER;CN="Fond du Lac Festivals":MAILTO:info@fdlfest.com
GEO:43.7958006;-88.4415998
X-APPLE-STRUCTURED-LOCATION;VALUE=URI;X-ADDRESS=Lakeside Park 555 N. Park Avenue Fond du Lac WI 54935 United States;X-APPLE-RADIUS=500;X-TITLE=555 N. Park Avenue:geo:-88.4415998,43.7958006
END:VEVENT
BEGIN:VEVENT
DTSTART;TZID=America/Chicago:20260614T110000
DTEND;TZID=America/Chicago:20260614T160000
DTSTAMP:20260425T131357
CREATED:20260401T201800Z
LAST-MODIFIED:20260425T163046Z
UID:10012767-1781434800-1781452800@www.fdl.com
SUMMARY:Walleye Weekend Fun on the Run Animal Racing
DESCRIPTION:Location: FamilyLand \nEvent Details: There&#x92;s a New Event at Walleye Weekend! Join the festivities at Walleye Weekend and watch animal races throughout the day on both Saturday\, June 13th\, and Sunday\, June 14th. Root for your favorite racer in each fleet of duck\, pig\, and goat races and learn more about these animals! \nSaturday\, June 13th: 11 am &#x96; 6 pm \nSunday\, June 14th: 11 am &#x96; 4 pm \nSponsored by: Edward Jones
URL:https://www.fdl.com/event/walleye-weekend-fun-on-the-run-animal-racing-2/
LOCATION:Lakeside Park\, 555 N. Park Avenue\, Fond du Lac\, WI\, 54935\, United States
CATEGORIES:Family + Fun,Festival
ORGANIZER;CN="Fond du Lac Festivals":MAILTO:info@fdlfest.com
GEO:43.7958006;-88.4415998
X-APPLE-STRUCTURED-LOCATION;VALUE=URI;X-ADDRESS=Lakeside Park 555 N. Park Avenue Fond du Lac WI 54935 United States;X-APPLE-RADIUS=500;X-TITLE=555 N. Park Avenue:geo:-88.4415998,43.7958006
END:VEVENT
BEGIN:VEVENT
DTSTART;TZID=America/Chicago:20260614T113000
DTEND;TZID=America/Chicago:20260614T170000
DTSTAMP:20260425T131357
CREATED:20260401T202500Z
LAST-MODIFIED:20260425T163046Z
UID:10012769-1781436600-1781456400@www.fdl.com
SUMMARY:Walleye Weekend Wild World of Animals
DESCRIPTION:Location: Mercury Island \nEvent Details: Animals appearing on the Michels Corporation Wild World of Animals Stage include: large alligator\, snapping turtle\, large and small American alligator\, large reticulated python\, albino monocle cobra\, European eagle owl\, blue and gold macaw\, opossum\, binturong\, spot-nose guenon\, African spotted leopard\, pug-(dog)\, two pot-bellied pigs\, emperor scorpion\, leopard gecko\, African millipede\, ball python and marine toad. Click here to visit the Wild World of Animals official website. \n  \nFriday\, June 12th: 4:30 pm\, 6:30 pm \nSaturday\, June 13th: 11 am\, 2 pm\, 4 pm\, 6 pm \nSunday\, June 14th: 11:30 am\, 1:30 pm\, 3:30 pm \n  \nSponsored by: Michels Corporation \n  \n 
URL:https://www.fdl.com/event/walleye-weekend-wild-world-of-animals-3/
LOCATION:Lakeside Park\, 555 N. Park Avenue\, Fond du Lac\, WI\, 54935\, United States
CATEGORIES:Family + Fun,Festival
ORGANIZER;CN="Fond du Lac Festivals":MAILTO:info@fdlfest.com
GEO:43.7958006;-88.4415998
X-APPLE-STRUCTURED-LOCATION;VALUE=URI;X-ADDRESS=Lakeside Park 555 N. Park Avenue Fond du Lac WI 54935 United States;X-APPLE-RADIUS=500;X-TITLE=555 N. Park Avenue:geo:-88.4415998,43.7958006
END:VEVENT
END:VCALENDAR