BEGIN:VCALENDAR
VERSION:2.0
PRODID:-//Fond du Lac - ECPv6.15.13//NONSGML v1.0//EN
CALSCALE:GREGORIAN
METHOD:PUBLISH
X-ORIGINAL-URL:https://www.fdl.com
X-WR-CALDESC:Events for Fond du Lac
REFRESH-INTERVAL;VALUE=DURATION:PT1H
X-Robots-Tag:noindex
X-PUBLISHED-TTL:PT1H
BEGIN:VTIMEZONE
TZID:America/Chicago
BEGIN:DAYLIGHT
TZOFFSETFROM:-0600
TZOFFSETTO:-0500
TZNAME:CDT
DTSTART:20250309T080000
END:DAYLIGHT
BEGIN:STANDARD
TZOFFSETFROM:-0500
TZOFFSETTO:-0600
TZNAME:CST
DTSTART:20251102T070000
END:STANDARD
BEGIN:DAYLIGHT
TZOFFSETFROM:-0600
TZOFFSETTO:-0500
TZNAME:CDT
DTSTART:20260308T080000
END:DAYLIGHT
BEGIN:STANDARD
TZOFFSETFROM:-0500
TZOFFSETTO:-0600
TZNAME:CST
DTSTART:20261101T070000
END:STANDARD
BEGIN:DAYLIGHT
TZOFFSETFROM:-0600
TZOFFSETTO:-0500
TZNAME:CDT
DTSTART:20270314T080000
END:DAYLIGHT
BEGIN:STANDARD
TZOFFSETFROM:-0500
TZOFFSETTO:-0600
TZNAME:CST
DTSTART:20271107T070000
END:STANDARD
END:VTIMEZONE
BEGIN:VEVENT
DTSTART;TZID=America/Chicago:20260606T093000
DTEND;TZID=America/Chicago:20260606T163000
DTSTAMP:20260422T040539
CREATED:20260421T161200Z
LAST-MODIFIED:20260422T083552Z
UID:10012980-1780738200-1780763400@www.fdl.com
SUMMARY:Dairy Days
DESCRIPTION:Honor National Dairy Month at Wade House! \nJoin us for a delicious\, hands-on celebration of rich Wisconsin dairy heritage at Wade House. Visit during National Dairy Month and experience traditional dairy-themed activities: roll up your sleeves and hand-crank an authentic ice cream maker\, plunge a dash churn to transform cream into fresh butter\, and discover the art of artisan cheese making through live demonstrations. Watch the Wade House kitchen come alive and stick around for the sweet reward&#x97;sampling a variety of delicious dairy products you helped create. \n$15 for adults and teens\, $13 for seniors\, $8 for children 5-11\, free for children under 5 \nClick here for ticket information.
URL:https://www.fdl.com/event/dairy-days/2026-06-06/
LOCATION:Wade House Historic Site\, W7965 Highway 23\, Greenbush\, WI\, 53026\, United States
CATEGORIES:Educational + Workshop + Class,Food + Drink,Holiday + Seasonal
ORGANIZER;CN="920-526-3271":MAILTO:wadehouse@wisconsinhistory.org
GEO:43.7820564;-88.089744
X-APPLE-STRUCTURED-LOCATION;VALUE=URI;X-ADDRESS=Wade House Historic Site W7965 Highway 23 Greenbush WI 53026 United States;X-APPLE-RADIUS=500;X-TITLE=W7965 Highway 23:geo:-88.089744,43.7820564
END:VEVENT
BEGIN:VEVENT
DTSTART;TZID=America/Chicago:20260607T093000
DTEND;TZID=America/Chicago:20260607T163000
DTSTAMP:20260422T040539
CREATED:20260421T161200Z
LAST-MODIFIED:20260422T083552Z
UID:10012981-1780824600-1780849800@www.fdl.com
SUMMARY:Dairy Days
DESCRIPTION:Honor National Dairy Month at Wade House! \nJoin us for a delicious\, hands-on celebration of rich Wisconsin dairy heritage at Wade House. Visit during National Dairy Month and experience traditional dairy-themed activities: roll up your sleeves and hand-crank an authentic ice cream maker\, plunge a dash churn to transform cream into fresh butter\, and discover the art of artisan cheese making through live demonstrations. Watch the Wade House kitchen come alive and stick around for the sweet reward&#x97;sampling a variety of delicious dairy products you helped create. \n$15 for adults and teens\, $13 for seniors\, $8 for children 5-11\, free for children under 5 \nClick here for ticket information.
URL:https://www.fdl.com/event/dairy-days/2026-06-07/
LOCATION:Wade House Historic Site\, W7965 Highway 23\, Greenbush\, WI\, 53026\, United States
CATEGORIES:Educational + Workshop + Class,Food + Drink,Holiday + Seasonal
ORGANIZER;CN="920-526-3271":MAILTO:wadehouse@wisconsinhistory.org
GEO:43.7820564;-88.089744
X-APPLE-STRUCTURED-LOCATION;VALUE=URI;X-ADDRESS=Wade House Historic Site W7965 Highway 23 Greenbush WI 53026 United States;X-APPLE-RADIUS=500;X-TITLE=W7965 Highway 23:geo:-88.089744,43.7820564
END:VEVENT
END:VCALENDAR